BEGIN:VCALENDAR
PRODID:-//github.com/rianjs/ical.net//NONSGML ical.net 4.0//EN
VERSION:2.0
BEGIN:VEVENT
DESCRIPTION:Details:\nhttps://bbyo.org/bbyo-near-you/regions/lonestar-regi
 on/fall-fest-houston-hurricane-relief-ride
DTEND:20171111T000100
DTSTAMP:20260421T163702Z
DTSTART;VALUE=DATE:20171111
LOCATION:
SEQUENCE:0
SUMMARY:Fall Fest Houston: Hurricane Relief Ride
UID:7d77c875-6115-4d68-974c-dc25788a6734
END:VEVENT
END:VCALENDAR
