BEGIN:VCALENDAR
PRODID:-//github.com/rianjs/ical.net//NONSGML ical.net 4.0//EN
VERSION:2.0
BEGIN:VEVENT
DESCRIPTION:Details:\nhttps://bbyo.org/bbyo-near-you/regions/wisconsin-reg
 ion/2023-bbyo-community-shabbat-dinner-l-dor-v-dor
DTEND:20230203T203000
DTSTAMP:20260422T003716Z
DTSTART:20230203T183000
LOCATION:JCC Community Hall
SEQUENCE:0
SUMMARY:2023-BBYO Community Shabbat Dinner -L'dor V'dor
UID:4d003217-6760-42eb-9fe4-a1cc5f0065cb
END:VEVENT
END:VCALENDAR
