BEGIN:VCALENDAR
PRODID:-//github.com/rianjs/ical.net//NONSGML ical.net 4.0//EN
VERSION:2.0
BEGIN:VEVENT
DESCRIPTION:Details:\nhttps://bbyo.org/bbyo-near-you/regions/northern-regi
 on-east-dc-council/fall-18-kickoff-hoco-bus\n\nSummary:\nPickup and dropo
 ff will be at the River Hill Village Center. The bus will leave at 7:15 P
 M and drop back off around 11:00 PM.
DTEND:20180929T223000
DTSTAMP:20260422T054045Z
DTSTART:20180929T200000
LOCATION:Clarksville Maryland
SEQUENCE:0
SUMMARY:Fall 18 Kickoff HoCo BUS
UID:3c24679f-51dc-474f-a853-a2be47ee8150
END:VEVENT
END:VCALENDAR
