BEGIN:VCALENDAR
PRODID:-//github.com/rianjs/ical.net//NONSGML ical.net 4.0//EN
VERSION:2.0
BEGIN:VEVENT
DESCRIPTION:Details:\nhttps://bbyo.org/bbyo-near-you/regions/central-regio
 n-west/beach-trip-(1)\n\nSummary:\nBeach Trip 2006\nEngagement event\, as
  well as end of summer/return to school celebration
DTEND:20060806T160000
DTSTAMP:20260425T122849Z
DTSTART:20060806T110000
LOCATION:Ocean Beach
SEQUENCE:0
SUMMARY:Beach Trip
UID:f2623596-c72a-4a7c-9b28-1b9b8ab8e291
END:VEVENT
END:VCALENDAR
