BEGIN:VCALENDAR
PRODID:-//github.com/rianjs/ical.net//NONSGML ical.net 4.0//EN
VERSION:2.0
BEGIN:VEVENT
DESCRIPTION:Details:\nhttps://bbyo.org/bbyo-near-you/regions/greater-jerse
 y-region/gjhrr-council-and-chapter-presidents-training-(pc\n\nSummary:\nT
 his training (mandatory for Council Board Members and optional for Chapte
 r Presidents although highly encouraged) is the perfect way to start the 
 BBYO programming year!  Leaving from the Re
DTEND:20170821T140000
DTSTAMP:20260421T073348Z
DTSTART:20170820T103000
LOCATION:Camp Nah Jee Wah
SEQUENCE:0
SUMMARY:GJHRR Council and Chapter Presidents Training (PC 8001)
UID:ed4f901d-c219-4b7f-9cab-71681d34546e
END:VEVENT
END:VCALENDAR
