BEGIN:VCALENDAR
PRODID:-//github.com/rianjs/ical.net//NONSGML ical.net 4.0//EN
VERSION:2.0
BEGIN:VEVENT
DESCRIPTION:Details:\nhttps://bbyo.org/bbyo-near-you/regions/rocky-mountai
 n-region/bbg-rosh-chodesh-club-3
DTEND:20061026T190000
DTSTAMP:20260424T145730Z
DTSTART:20061026T173000
LOCATION:Denver
SEQUENCE:0
SUMMARY:BBG Rosh Chodesh Club #3
UID:804699e3-4b45-4773-ad8d-ad4917aee8d9
END:VEVENT
END:VCALENDAR
