BEGIN:VCALENDAR
PRODID:-//github.com/rianjs/ical.net//NONSGML ical.net 4.0//EN
VERSION:2.0
BEGIN:VEVENT
DESCRIPTION:Details:\nhttps://bbyo.org/bbyo-near-you/regions/michigan-regi
 on/ic-2024-swag
DTEND:20240104T235900
DTSTAMP:20260420T155424Z
DTSTART:20240104T210000
LOCATION:
SEQUENCE:0
SUMMARY:IC 2024 Swag
UID:113f20b0-adec-43d9-bb7f-dd11a444ef1a
END:VEVENT
END:VCALENDAR
