BEGIN:VCALENDAR
PRODID:-//github.com/rianjs/ical.net//NONSGML ical.net 4.0//EN
VERSION:2.0
BEGIN:VEVENT
DESCRIPTION:Details:\nhttps://bbyo.org/bbyo-near-you/regions/liberty-regio
 n/liberty-regional-lives-2021\n\nSummary:\nSpring Convention WEEK will st
 art off with Liberty's Regional\, Lives ceremony. Lives is a cherished tr
 adition here in Liberty Region and we are excited to come together to wat
 ch our graduati
DTEND:20210516T180000
DTSTAMP:20260420T100520Z
DTSTART:20210516T113000
LOCATION:
SEQUENCE:0
SUMMARY:Liberty Regional Lives 2021
UID:f44ba511-d1f6-41b4-829f-5860b99189f6
END:VEVENT
END:VCALENDAR
