BEGIN:VCALENDAR
PRODID:-//github.com/rianjs/ical.net//NONSGML ical.net 4.0//EN
VERSION:2.0
BEGIN:VEVENT
DESCRIPTION:Details:\nhttps://bbyo.org/bbyo-near-you/regions/northern-regi
 on-east-dc-council/d-c-council-meetings-(1)\n\nSummary:\nCome to the firs
 t Council meetings of the 2006-2007 programming year!  The Council Boards
  will discuss important business and you'll get to see all your D.C. Coun
 cil friends in one place.
DTEND:20060913T203000
DTSTAMP:20260425T182826Z
DTSTART:20060913T190000
LOCATION:JCC of Greater Washington
SEQUENCE:0
SUMMARY:D.C. Council Meetings
UID:f3bab5bf-12db-4d9c-81bb-6804a5e95cbe
END:VEVENT
END:VCALENDAR
