BEGIN:VCALENDAR
PRODID:-//github.com/rianjs/ical.net//NONSGML ical.net 4.0//EN
VERSION:2.0
BEGIN:VEVENT
DESCRIPTION:Details:\nhttps://bbyo.org/bbyo-near-you/regions/mountain-regi
 on/jonas-salk/midstate-of-colin-dane-granger\n\nSummary:\nOur Godol (Pres
 ident)\, Colin Granger\, will present an amazing speech to the chapter ab
 out how the current term has been going thus far.
DTEND:20211025T200000
DTSTAMP:20260422T101653Z
DTSTART:20211025T190000
LOCATION:Scottsdale Arizona
SEQUENCE:0
SUMMARY:Midstate of Colin Dane Granger
UID:2e74c224-9457-44f2-8ac8-321cdde0369c
END:VEVENT
END:VCALENDAR
