BEGIN:VCALENDAR
PRODID:-//github.com/rianjs/ical.net//NONSGML ical.net 4.0//EN
VERSION:2.0
BEGIN:VEVENT
DESCRIPTION:Details:\nhttps://bbyo.org/bbyo-near-you/regions/northern-regi
 on-east-dc-council/preference-night-(1)
DTEND:20240921T203000
DTSTAMP:20260422T124833Z
DTSTART:20240921T200000
LOCATION:Rockville Maryland
SEQUENCE:0
SUMMARY:Preference Night
UID:d0d1d887-b207-4ed3-a3d8-0a86ddc3e66d
END:VEVENT
END:VCALENDAR
