BEGIN:VCALENDAR
PRODID:-//github.com/rianjs/ical.net//NONSGML ical.net 4.0//EN
VERSION:2.0
BEGIN:VEVENT
DESCRIPTION:Details:\nhttps://bbyo.org/bbyo-near-you/regions/mid-america-r
 egion-kansas-city-council/kc-st-louis-mizzou-vs-vanderbilt-football-game
DTEND:20221022T200000
DTSTAMP:20260422T144239Z
DTSTART:20221022T125000
LOCATION:
SEQUENCE:0
SUMMARY:KC & St. Louis Mizzou vs Vanderbilt Football Game
UID:09d1be28-b774-445a-8a42-c3821b32d6e4
END:VEVENT
END:VCALENDAR
