BEGIN:VCALENDAR
PRODID:-//github.com/rianjs/ical.net//NONSGML ical.net 4.0//EN
VERSION:2.0
BEGIN:VEVENT
DESCRIPTION:Details:\nhttps://bbyo.org/bbyo-near-you/regions/greater-atlan
 ta-region/atl-bbyo-ic-launch-party-2016
DTEND:20160927T210000
DTSTAMP:20260423T042958Z
DTSTART:20160927T190000
LOCATION:Mellow Mushroom
SEQUENCE:0
SUMMARY:ATL-BBYO IC Launch Party-2016
UID:7a9735d9-6ab3-4929-a430-b63970a5d2cb
END:VEVENT
END:VCALENDAR
