BEGIN:VCALENDAR
PRODID:-//github.com/rianjs/ical.net//NONSGML ical.net 4.0//EN
VERSION:2.0
BEGIN:VEVENT
DESCRIPTION:Details:\nhttps://bbyo.org/bbyo-near-you/regions/liberty-regio
 n/giving-bbyo-day-at-allentown
DTEND:20231128T203000
DTSTAMP:20260421T043654Z
DTSTART:20231128T193000
LOCATION:Allentown Pennsylvania
SEQUENCE:0
SUMMARY:Giving BBYO Day at Allentown
UID:589847d5-e3b6-4937-b1c8-32fcd2c762fe
END:VEVENT
END:VCALENDAR
