BEGIN:VCALENDAR
PRODID:-//github.com/rianjs/ical.net//NONSGML ical.net 4.0//EN
VERSION:2.0
BEGIN:VEVENT
DESCRIPTION:Details:\nhttps://bbyo.org/bbyo-near-you/regions/mountain-regi
 on/vegas-sukkah-building
DTEND:20230924T120000
DTSTAMP:20260425T182828Z
DTSTART:20230924T100000
LOCATION:The Warnick House
SEQUENCE:0
SUMMARY:Vegas Sukkah Building
UID:fc8c2f33-1af2-471d-9723-e221fe43f9d7
END:VEVENT
END:VCALENDAR
