BEGIN:VCALENDAR
PRODID:-//github.com/rianjs/ical.net//NONSGML ical.net 4.0//EN
VERSION:2.0
BEGIN:VEVENT
DESCRIPTION:Details:\nhttps://bbyo.org/bbyo-near-you/regions/northern-regi
 on-east-dc-council/azaa-semifinals-championship\n\nSummary:\nCome on out 
 to watch DC Council's AZA chapters compete against each other to fight fo
 r the coveted flag football championship! \n\nIn order to participate\, y
 ou must be a member of BBYO and we
DTEND:20191110T120000
DTSTAMP:20260420T132350Z
DTSTART:20191110T093000
LOCATION:Rockville Maryland
SEQUENCE:0
SUMMARY:AZAA Semifinals & Championship
UID:75d37cf6-d423-4cfc-a01a-35b80878265b
END:VEVENT
END:VCALENDAR
