BEGIN:VCALENDAR
PRODID:-//github.com/rianjs/ical.net//NONSGML ical.net 4.0//EN
VERSION:2.0
BEGIN:VEVENT
DESCRIPTION:Details:\nhttps://bbyo.org/bbyo-near-you/regions/wisconsin-reg
 ion/wi-bbg-coffee-date
DTEND;VALUE=DATE:20151008
DTSTAMP:20260423T002232Z
DTSTART;VALUE=DATE:20151008
LOCATION:
SEQUENCE:0
SUMMARY:WI - BBG Coffee Date
UID:a9974310-39b4-4f26-b04c-325136d7ac79
END:VEVENT
END:VCALENDAR
