BEGIN:VCALENDAR
PRODID:-//github.com/rianjs/ical.net//NONSGML ical.net 4.0//EN
VERSION:2.0
BEGIN:VEVENT
DESCRIPTION:Details:\nhttps://bbyo.org/bbyo-near-you/regions/mountain-regi
 on/mtn-las-vegas-global-shabbat-2015-(pc5000)\n\nSummary:\nJoin Las Vegas
  BBYO as we participate in Global Shabbat with thousands of teens across 
 the globe!
DTEND:20151114T193000
DTSTAMP:20260423T201359Z
DTSTART:20151114T173000
LOCATION:Specific location information to be given closer to event.
SEQUENCE:0
SUMMARY:MTN Las Vegas - Global Shabbat 2015 - (PC5000)
UID:131735e0-d7ab-4269-b5b7-47555474655d
END:VEVENT
END:VCALENDAR
