BEGIN:VCALENDAR
PRODID:-//github.com/rianjs/ical.net//NONSGML ical.net 4.0//EN
VERSION:2.0
BEGIN:VEVENT
DESCRIPTION:Details:\nhttps://bbyo.org/bbyo-near-you/regions/miami-region/
 zrichah/aventura-nmb-mestival
DTEND:20240229T193000
DTSTAMP:20260420T123202Z
DTSTART:20240229T183000
LOCATION:TBD
SEQUENCE:0
SUMMARY:Aventura NMB Mestival
UID:4b6f44c4-8f92-4629-bd46-fdd5654193b2
END:VEVENT
END:VCALENDAR
