BEGIN:VCALENDAR
PRODID:-//github.com/rianjs/ical.net//NONSGML ical.net 4.0//EN
VERSION:2.0
BEGIN:VEVENT
DESCRIPTION:Details:\nhttps://bbyo.org/bbyo-near-you/regions/big-apple-reg
 ion/teen-connection-kickof-at-mjcc
DTEND;VALUE=DATE:20060113
DTSTAMP:20260424T170811Z
DTSTART:20060110T180000
LOCATION:
SEQUENCE:0
SUMMARY:Teen Connection Kickof at MJCC
UID:c993f287-a5f8-4628-bd98-5c68e2c2b023
END:VEVENT
END:VCALENDAR
