BEGIN:VCALENDAR
PRODID:-//github.com/rianjs/ical.net//NONSGML ical.net 4.0//EN
VERSION:2.0
BEGIN:VEVENT
DESCRIPTION:Details:\nhttps://bbyo.org/bbyo-near-you/regions/lake-ontario-
 region/amazing-race-november
DTEND:20051113T160000
DTSTAMP:20260420T111149Z
DTSTART:20051113T130000
LOCATION:Subway
SEQUENCE:0
SUMMARY:Amazing Race November
UID:adf9a28c-8ef6-4ab5-a01d-bd702570a3e3
END:VEVENT
END:VCALENDAR
