BEGIN:VCALENDAR
PRODID:-//github.com/rianjs/ical.net//NONSGML ical.net 4.0//EN
VERSION:2.0
BEGIN:VEVENT
DESCRIPTION:Details:\nhttps://bbyo.org/bbyo-near-you/regions/hudson-valley
 -region/hvr-summer-launch-ice-cream-social
DTEND:20231102T210000
DTSTAMP:20260425T183027Z
DTSTART:20231102T190000
LOCATION:Email us!
SEQUENCE:0
SUMMARY:HVR Summer Launch Ice Cream Social
UID:79ea5173-3afc-44c0-9456-0f0740fa85ce
END:VEVENT
END:VCALENDAR
