BEGIN:VCALENDAR
PRODID:-//github.com/rianjs/ical.net//NONSGML ical.net 4.0//EN
VERSION:2.0
BEGIN:VEVENT
DESCRIPTION:Details:\nhttps://bbyo.org/bbyo-near-you/regions/north-texas-o
 klahoma-region/blum-executive-meeting
DTEND:20160228T170000
DTSTAMP:20260421T011455Z
DTSTART:20160228T160000
LOCATION:JCC
SEQUENCE:0
SUMMARY:Blum Executive Meeting
UID:925de6cd-9d95-4388-9624-8395ecd45dff
END:VEVENT
END:VCALENDAR
