BEGIN:VCALENDAR
PRODID:-//github.com/rianjs/ical.net//NONSGML ical.net 4.0//EN
VERSION:2.0
BEGIN:VEVENT
DESCRIPTION:Details:\nhttps://bbyo.org/bbyo-near-you/regions/rocky-mountai
 n-region/denver-chapter-meetings-(25)
DTEND:20220510T210000
DTSTAMP:20260423T200442Z
DTSTART:20220510T190000
LOCATION:Temple Emanuel Denver
SEQUENCE:0
SUMMARY:Denver Chapter Meetings
UID:ed3f913e-705a-4e80-b165-3709751bfcb9
END:VEVENT
END:VCALENDAR
