BEGIN:VCALENDAR
PRODID:-//github.com/rianjs/ical.net//NONSGML ical.net 4.0//EN
VERSION:2.0
BEGIN:VEVENT
DESCRIPTION:Details:\nhttps://bbyo.org/bbyo-near-you/regions/evergreen-reg
 ion/monday-meet-and-eat-4
DTEND:20200406T210000
DTSTAMP:20260423T200333Z
DTSTART:20200406T190000
LOCATION:
SEQUENCE:0
SUMMARY:Monday Meet and Eat #4
UID:3347d9f5-d1c6-47ab-9b45-d676f78dac59
END:VEVENT
END:VCALENDAR
