BEGIN:VCALENDAR
PRODID:-//github.com/rianjs/ical.net//NONSGML ical.net 4.0//EN
VERSION:2.0
BEGIN:VEVENT
DESCRIPTION:Details:\nhttps://bbyo.org/bbyo-near-you/regions/nassau-suffol
 k-region/ic-swag-(1)
DTEND:20220210T130000
DTSTAMP:20260423T091856Z
DTSTART:20220210T120000
LOCATION:
SEQUENCE:0
SUMMARY:IC Swag
UID:55dad609-4192-446f-87d5-a2a10a57557d
END:VEVENT
END:VCALENDAR
