BEGIN:VCALENDAR
PRODID:-//github.com/rianjs/ical.net//NONSGML ical.net 4.0//EN
VERSION:2.0
BEGIN:VEVENT
DESCRIPTION:Details:\nhttps://bbyo.org/bbyo-near-you/regions/new-england-r
 egion/vermont/vermont-bbyo-ice-skating
DTEND:20230108T143000
DTSTAMP:20260422T083816Z
DTSTART:20230108T130000
LOCATION:South Burlington Vermont
SEQUENCE:0
SUMMARY:Vermont BBYO Ice Skating
UID:c0df8c08-d4bf-4a9c-9caf-816e1ed86861
END:VEVENT
END:VCALENDAR
