BEGIN:VCALENDAR
PRODID:-//github.com/rianjs/ical.net//NONSGML ical.net 4.0//EN
VERSION:2.0
BEGIN:VEVENT
DESCRIPTION:Details:\nhttps://bbyo.org/bbyo-near-you/regions/new-england-r
 egion/bbyo-ner-leadership-training-institute-(lti)-p-(1)
DTEND:20210912T163000
DTSTAMP:20260421T073057Z
DTSTART:20210911T200000
LOCATION:See Email
SEQUENCE:0
SUMMARY:BBYO NER Leadership Training Institute (LTI) Part 1
UID:fefd8888-756a-4576-a540-73a1e895c8e6
END:VEVENT
END:VCALENDAR
