BEGIN:VCALENDAR
PRODID:-//github.com/rianjs/ical.net//NONSGML ical.net 4.0//EN
VERSION:2.0
BEGIN:VEVENT
DESCRIPTION:Details:\nhttps://bbyo.org/bbyo-near-you/regions/central-regio
 n-west/crw-spring-convention-2023
DTEND:20230521T130000
DTSTAMP:20260423T002013Z
DTSTART:20230519T170000
LOCATION:Fremont California
SEQUENCE:0
SUMMARY:CRW Spring Convention 2023
UID:10b481f9-3f0c-4daa-8226-6124dee3804d
END:VEVENT
END:VCALENDAR
