BEGIN:VCALENDAR
PRODID:-//github.com/rianjs/ical.net//NONSGML ical.net 4.0//EN
VERSION:2.0
BEGIN:VEVENT
DESCRIPTION:Details:\nhttps://bbyo.org/bbyo-near-you/regions/lonestar-regi
 on/houston-j-serve-(2)
DTEND:20240414T163000
DTSTAMP:20260423T195702Z
DTSTART:20240414T130000
LOCATION:The Merfish Teen Center
SEQUENCE:0
SUMMARY:Houston J-Serve
UID:5ef7271c-30ea-459b-8f7f-b1244908936e
END:VEVENT
END:VCALENDAR
