BEGIN:VCALENDAR
PRODID:-//github.com/rianjs/ical.net//NONSGML ical.net 4.0//EN
VERSION:2.0
BEGIN:VEVENT
DESCRIPTION:Details:\nhttps://bbyo.org/bbyo-near-you/regions/rocky-mountai
 n-region/march-madness
DTEND:20220320T180100
DTSTAMP:20260421T073137Z
DTSTART:20220319T150000
LOCATION:ESPN
SEQUENCE:0
SUMMARY:March Madness
UID:d7bb2805-0d8d-4b01-893c-ce30ac8f0d27
END:VEVENT
END:VCALENDAR
