BEGIN:VCALENDAR
PRODID:-//github.com/rianjs/ical.net//NONSGML ical.net 4.0//EN
VERSION:2.0
BEGIN:VEVENT
DESCRIPTION:Details:\nhttps://bbyo.org/bbyo-near-you/regions/lonestar-regi
 on/bbyo-lonestar-region-greater-houston-council-sprin
DTEND:20180113T000100
DTSTAMP:20260420T103348Z
DTSTART;VALUE=DATE:20180113
LOCATION:
SEQUENCE:0
SUMMARY:BBYO Lonestar Region- Greater Houston Council Spring 2018 Kickoff
UID:fefa2528-4bb1-4549-9024-31178168e602
END:VEVENT
END:VCALENDAR
