BEGIN:VCALENDAR
PRODID:-//github.com/rianjs/ical.net//NONSGML ical.net 4.0//EN
VERSION:2.0
BEGIN:VEVENT
DESCRIPTION:Details:\nhttps://bbyo.org/bbyo-near-you/regions/great-midwest
 -region/aviva/gmr-shabbat\n\nSummary:\nJoin the girls of Aviva for Shabba
 t dinner!
DTEND:20181012T200000
DTSTAMP:20260419T123429Z
DTSTART:20181012T190000
LOCATION:Buffalo Grove Illinois
SEQUENCE:0
SUMMARY:GMR Shabbat
UID:bace25be-998f-4358-8850-c9153c2ecdc4
END:VEVENT
END:VCALENDAR
