BEGIN:VCALENDAR
PRODID:-//github.com/rianjs/ical.net//NONSGML ical.net 4.0//EN
VERSION:2.0
BEGIN:VEVENT
DESCRIPTION:Details:\nhttps://bbyo.org/bbyo-near-you/regions/connecticut-v
 alley-region/test-for-campdoc-and-regioncaps
DTEND;VALUE=DATE:20191101
DTSTAMP:20260421T100856Z
DTSTART;VALUE=DATE:20191031
LOCATION:
SEQUENCE:0
SUMMARY:TEST FOR CAMPDOC AND REGIONCAPS
UID:9c80beeb-22db-4730-bb96-892fa7f21765
END:VEVENT
END:VCALENDAR
