BEGIN:VCALENDAR
PRODID:-//github.com/rianjs/ical.net//NONSGML ical.net 4.0//EN
VERSION:2.0
BEGIN:VEVENT
DESCRIPTION:Details:\nhttps://bbyo.org/bbyo-near-you/regions/great-midwest
 -region/teen-community-chanukah-event
DTEND:20231213T203000
DTSTAMP:20260425T182702Z
DTSTART:20231213T183000
LOCATION:Bernard Weinger JCC
SEQUENCE:0
SUMMARY:Teen Community Chanukah Event
UID:f318fbf3-c227-4870-b8ca-b5223deaec95
END:VEVENT
END:VCALENDAR
