BEGIN:VCALENDAR
PRODID:-//github.com/rianjs/ical.net//NONSGML ical.net 4.0//EN
VERSION:2.0
BEGIN:VEVENT
DESCRIPTION:Details:\nhttps://bbyo.org/bbyo-near-you/regions/northern-regi
 on-east-northern-virginia-council/chinese-food-and-shul-on-christmas\n\nS
 ummary:\nWondering what to do on Christmas? Come enjoy a 6:15 Kabbalat Sh
 abbat service with NoVA Council at Congregation Olam Tikvah\, December's 
 Shul of the Month! After\, we will go get Chinese food\,
DTEND:20151225T210000
DTSTAMP:20260423T115054Z
DTSTART:20151225T180000
LOCATION:Olam Tikvah
SEQUENCE:0
SUMMARY:Chinese Food and Shul on Christmas
UID:cda9b4bb-0425-45e8-b0de-3e9497e16c1f
END:VEVENT
END:VCALENDAR
