BEGIN:VCALENDAR
PRODID:-//github.com/rianjs/ical.net//NONSGML ical.net 4.0//EN
VERSION:2.0
BEGIN:VEVENT
DESCRIPTION:Details:\nhttps://bbyo.org/bbyo-near-you/regions/evergreen-reg
 ion/duplicate-event
DTEND:20171113T000100
DTSTAMP:20260422T202543Z
DTSTART;VALUE=DATE:20171113
LOCATION:
SEQUENCE:0
SUMMARY:duplicate event
UID:52bbbf64-2fdb-44aa-9d99-8a2601795d9b
END:VEVENT
END:VCALENDAR
