BEGIN:VCALENDAR
PRODID:-//github.com/rianjs/ical.net//NONSGML ical.net 4.0//EN
VERSION:2.0
BEGIN:VEVENT
DESCRIPTION:Details:\nhttps://bbyo.org/bbyo-near-you/regions/northern-regi
 on-east-dc-council/bbg-dc-council-bakesale
DTEND:20240303T150000
DTSTAMP:20260419T145956Z
DTSTART:20240302T120000
LOCATION:Bethesda Maryland
SEQUENCE:0
SUMMARY:BBG DC Council Bakesale
UID:f6e0e0d8-76cb-48de-ae43-9a878b0a8ae1
END:VEVENT
END:VCALENDAR
