BEGIN:VCALENDAR
PRODID:-//github.com/rianjs/ical.net//NONSGML ical.net 4.0//EN
VERSION:2.0
BEGIN:VEVENT
DESCRIPTION:Details:\nhttps://bbyo.org/bbyo-near-you/regions/evergreen-reg
 ion/evergreen-march-madness!\n\nSummary:\nRegister Here for March Madness
  Brackets with EGR. We will have super awesome prizes and lots of fun! \n
 \nOnce registered in the registration confirmation screen you will see th
 e log in info f
DTEND;VALUE=DATE:20210331
DTSTAMP:20260424T063159Z
DTSTART:20210315T230000
LOCATION:Online
SEQUENCE:0
SUMMARY:Evergreen March Madness!
UID:ba4e7363-5337-4012-a8f9-bfa5d8492ec6
END:VEVENT
END:VCALENDAR
