BEGIN:VCALENDAR
PRODID:-//github.com/rianjs/ical.net//NONSGML ical.net 4.0//EN
VERSION:2.0
BEGIN:VEVENT
DESCRIPTION:Details:\nhttps://bbyo.org/bbyo-near-you/regions/great-midwest
 -region/gmr-advisor-training
DTEND:20210828T180000
DTSTAMP:20260423T195529Z
DTSTART:20210828T140000
LOCATION:
SEQUENCE:0
SUMMARY:GMR Advisor Training
UID:41ee6d5d-cd9b-4bec-96bd-30c96ec23acf
END:VEVENT
END:VCALENDAR
