BEGIN:VCALENDAR
PRODID:-//github.com/rianjs/ical.net//NONSGML ical.net 4.0//EN
VERSION:2.0
BEGIN:VEVENT
DESCRIPTION:Details:\nhttps://bbyo.org/bbyo-near-you/regions/evergreen-reg
 ion/evergreen-regional-board-overnight-2022
DTEND:20220825T120000
DTSTAMP:20260423T215019Z
DTSTART:20220823T150000
LOCATION:Woodland\, WA
SEQUENCE:0
SUMMARY:Evergreen Regional Board Overnight 2022
UID:91a41b77-7d8a-4b74-a215-706723202749
END:VEVENT
END:VCALENDAR
