BEGIN:VCALENDAR
PRODID:-//github.com/rianjs/ical.net//NONSGML ical.net 4.0//EN
VERSION:2.0
BEGIN:VEVENT
DESCRIPTION:Details:\nhttps://bbyo.org/bbyo-near-you/regions/gold-coast-re
 gion/awards-night\n\nSummary:\nThis night will include Awards\, Board Ins
 talls\, and Life ceremonies. We will be having this award night at CB Smi
 th Park
DTEND:20210524T194500
DTSTAMP:20260423T042700Z
DTSTART:20210524T164500
LOCATION:Pembroke Pines Florida
SEQUENCE:0
SUMMARY:Awards Night
UID:7172865a-d056-4a47-b630-d2c1cf76488a
END:VEVENT
END:VCALENDAR
