BEGIN:VCALENDAR
PRODID:-//github.com/rianjs/ical.net//NONSGML ical.net 4.0//EN
VERSION:2.0
BEGIN:VEVENT
DESCRIPTION:Details:\nhttps://bbyo.org/bbyo-near-you/regions/rocky-mountai
 n-region/april-denver-chapter-meeting-4-2
DTEND:20190402T203000
DTSTAMP:20260421T141744Z
DTSTART:20190402T191500
LOCATION:Denver Colorado
SEQUENCE:0
SUMMARY:April Denver Chapter Meeting 4/2
UID:174b44bc-94fd-4c6c-8d63-4f705b8fbb8f
END:VEVENT
END:VCALENDAR
