BEGIN:VCALENDAR
PRODID:-//github.com/rianjs/ical.net//NONSGML ical.net 4.0//EN
VERSION:2.0
BEGIN:VEVENT
DESCRIPTION:Details:\nhttps://bbyo.org/bbyo-near-you/regions/kentucky-indi
 ana-ohio-region/indianapolis-bbyo-fall-kickoff
DTEND:20170917T000100
DTSTAMP:20260423T021233Z
DTSTART;VALUE=DATE:20170917
LOCATION:
SEQUENCE:0
SUMMARY:Indianapolis BBYO Fall Kickoff
UID:21938b71-8868-4138-9df0-e0e284d66c23
END:VEVENT
END:VCALENDAR
