BEGIN:VCALENDAR
PRODID:-//github.com/rianjs/ical.net//NONSGML ical.net 4.0//EN
VERSION:2.0
BEGIN:VEVENT
DESCRIPTION:Details:\nhttps://bbyo.org/bbyo-near-you/regions/south-jersey-
 region/sjr-debate-night\n\nSummary:\nHey SJR\,\nJoin us tonight for our D
 ebate Night Watch Party!\nHelp us count the number of times the candidate
 s interrupt each other.\nSee if you can keep a straight face when the can
 didates d
DTEND:20161019T220000
DTSTAMP:20260422T120250Z
DTSTART:20161019T200000
LOCATION:Katz jCC
SEQUENCE:0
SUMMARY:SJR - Debate Night
UID:76d0f3c9-a5c1-4c90-98b8-50364723b3ce
END:VEVENT
END:VCALENDAR
