BEGIN:VCALENDAR
PRODID:-//github.com/rianjs/ical.net//NONSGML ical.net 4.0//EN
VERSION:2.0
BEGIN:VEVENT
DESCRIPTION:Details:\nhttps://bbyo.org/bbyo-near-you/regions/delta-region/
 csr-bundle-package-rc-kallah-pc-3020\n\nSummary:\nThis is the Registratio
 n for the CSR Regional Program Bundle Package for Regional Convention and
  Kallah.  The Bundle Package includes registration Regional Convention on
  December 20-23\, and
DTEND:20160417T120000
DTSTAMP:20260423T195530Z
DTSTART:20151220T143000
LOCATION:Various
SEQUENCE:0
SUMMARY:CSR Bundle Package RC & Kallah- PC 3020
UID:a54ff593-d0c5-4fb3-8427-a66984a5c280
END:VEVENT
END:VCALENDAR
