BEGIN:VCALENDAR
PRODID:-//github.com/rianjs/ical.net//NONSGML ical.net 4.0//EN
VERSION:2.0
BEGIN:VEVENT
DESCRIPTION:Details:\nhttps://bbyo.org/bbyo-near-you/regions/pacific-weste
 rn-region/san-diego-city-meeting-(1)
DTEND:20221003T200000
DTSTAMP:20260422T113559Z
DTSTART:20221003T180000
LOCATION:La Jolla  California
SEQUENCE:0
SUMMARY:San Diego City Meeting
UID:01d2af44-3dd7-40df-a260-0403136cae2a
END:VEVENT
END:VCALENDAR
