BEGIN:VCALENDAR
PRODID:-//github.com/rianjs/ical.net//NONSGML ical.net 4.0//EN
VERSION:2.0
BEGIN:VEVENT
DESCRIPTION:Details:\nhttps://bbyo.org/bbyo-near-you/regions/evergreen-reg
 ion/election-conclave-2020
DTEND:20200517T140000
DTSTAMP:20260423T002143Z
DTSTART:20200515T140000
LOCATION:Camp Solomon Schechter
SEQUENCE:0
SUMMARY:Election Conclave 2020
UID:1c41c735-c9c0-444b-b57a-948c16372ac5
END:VEVENT
END:VCALENDAR
