BEGIN:VCALENDAR
PRODID:-//github.com/rianjs/ical.net//NONSGML ical.net 4.0//EN
VERSION:2.0
BEGIN:VEVENT
DESCRIPTION:Details:\nhttps://bbyo.org/bbyo-near-you/regions/hudson-valley
 -region/ic-stand-up-blizzard-boxes\n\nSummary:\nA Blizzard Box is an asso
 rtment of donated non-perishable food items packed into shoeboxes. The sh
 oeboxes are delivered to the recipients of Meals on Wheels' Home Delivere
 d Meals Program in case normal food deliveries are halted due to weather-
 related or other emergencies.
DTEND;VALUE=DATE:20210215
DTSTAMP:20260422T003717Z
DTSTART;VALUE=DATE:20210211
LOCATION:
SEQUENCE:0
SUMMARY:IC Stand Up: Blizzard Boxes
UID:f94bb292-7f9d-4240-a5ec-6be739d28750
END:VEVENT
END:VCALENDAR
