BEGIN:VCALENDAR
PRODID:-//github.com/rianjs/ical.net//NONSGML ical.net 4.0//EN
VERSION:2.0
BEGIN:VEVENT
DESCRIPTION:Details:\nhttps://bbyo.org/bbyo-near-you/regions/lake-ontario-
 region/achim-(2)/achim-aza-1016-chapter-program-(27)\n\nSummary:\nContact
  BBYO at info@bbyo.ca or 416.398.2004 for more information.
DTEND:20191023T200000
DTSTAMP:20260420T093134Z
DTSTART:20191023T183000
LOCATION:Schwartz/Reisman Centre
SEQUENCE:0
SUMMARY:Achim AZA #1016 - Chapter Program
UID:4313cdeb-bdc5-4d05-98a2-7a21778008a8
END:VEVENT
END:VCALENDAR
